BEGIN:VCALENDAR
VERSION:2.0
PRODID:-//IP.Board Calendar 4.6.11//EN
METHOD:PUBLISH
CALSCALE:GREGORIAN
X-WR-CALNAME:STURMKIND
BEGIN:VTIMEZONE
TZID:Europe/London
TZURL:http://tzurl.org/zoneinfo/Europe/London
X-LIC-LOCATION:Europe/London
BEGIN:DAYLIGHT
TZOFFSETFROM:+0000
TZOFFSETTO:+0100
TZNAME:BST
DTSTART:20190331T020000Z
RRULE:FREQ=YEARLY;BYMONTH=3;BYDAY=-1SU
END:DAYLIGHT
BEGIN:STANDARD
TZOFFSETFROM:+0100
TZOFFSETTO:+0000
TZNAME:GMT
DTSTART:20191027T020000Z
RRULE:FREQ=YEARLY;BYMONTH=10;BYDAY=-1SU
END:STANDARD
END:VTIMEZONE
BEGIN:VEVENT
SUMMARY:DTM - Zolder (Belgien)
DTSTAMP:20190411T091007Z
SEQUENCE:0
UID:15-3-310b8a5525cf97135035d5b510e74b43@community.sturmkind.com
ORGANIZER;CN="Peter":community@sturmkind.com
DESCRIPTION:\n\n	Die DTM zu Gast in Zolder (Belgien) und wir sind mit 
	unseren DR!FT-Racern und einer Strecke mit dabei.  \n\n\n\n	Kommt am kom
	pletten Rennwochenende vorbei und driftet mit uns ein paar Runden.  \n
	\n\n\n	Weitere Infos zum Wochenende:\n\n	- Die Rennstrecke\n\n
DTSTART;VALUE=DATE:20190517
DTEND;VALUE=DATE:20190520
END:VEVENT
END:VCALENDAR
