BEGIN:VCALENDAR
VERSION:2.0
PRODID:-//IP.Board Calendar 4.6.11//EN
METHOD:PUBLISH
CALSCALE:GREGORIAN
X-WR-CALNAME:Community Kalender
BEGIN:VTIMEZONE
TZID:Europe/London
TZURL:http://tzurl.org/zoneinfo/Europe/London
X-LIC-LOCATION:Europe/London
BEGIN:DAYLIGHT
TZOFFSETFROM:+0000
TZOFFSETTO:+0100
TZNAME:BST
DTSTART:20260329T020000Z
RRULE:FREQ=YEARLY;BYMONTH=3;BYDAY=-1SU
END:DAYLIGHT
BEGIN:STANDARD
TZOFFSETFROM:+0100
TZOFFSETTO:+0000
TZNAME:GMT
DTSTART:20261025T020000Z
RRULE:FREQ=YEARLY;BYMONTH=10;BYDAY=-1SU
END:STANDARD
END:VTIMEZONE
BEGIN:VEVENT
SUMMARY:DDR Summercamp 2026
DTSTAMP:20251228T153248Z
SEQUENCE:0
UID:152-1-310b8a5525cf97135035d5b510e74b43@community.sturmkind.com
ORGANIZER;CN="Michael Große":community@sturmkind.com
DESCRIPTION:\n	Summercamp der Dresden DR!FT Racers\n\n\n\n	Zum bereits 6
	. Mal wird ein ganzes Wochenende wettbewerbsmäßig geDR!FTed\, geplaudert
	\, gelacht - einfach ein gute Zeit miteinander verbracht.\n\n\n\n	Wir habe
	n Platz für 40 aktive Fahrer.\n\n\n\n	Alle Details zum Event  sowie Anme
	ldung gibt es über folgenden DR!FT Club-Link:\n\n\n\n	https://driftclub.c
	om/event/g/ddr/sc26/participants\n\n\n\n	Crew der Dresden DR!FT Racers fre
	ut sich auf Euch!\n\n
DTSTART;VALUE=DATE:20260620
DTEND;VALUE=DATE:20260622
END:VEVENT
END:VCALENDAR
